BEGIN:VCALENDAR
VERSION:2.0
PRODID:-//North Hartford Ascend - ECPv6.15.20//NONSGML v1.0//EN
CALSCALE:GREGORIAN
METHOD:PUBLISH
X-WR-CALNAME:North Hartford Ascend
X-ORIGINAL-URL:https://northhartfordascend.org
X-WR-CALDESC:Events for North Hartford Ascend
REFRESH-INTERVAL;VALUE=DURATION:PT1H
X-Robots-Tag:noindex
X-PUBLISHED-TTL:PT1H
BEGIN:VTIMEZONE
TZID:UTC
BEGIN:STANDARD
TZOFFSETFROM:+0000
TZOFFSETTO:+0000
TZNAME:UTC
DTSTART:20240101T000000
END:STANDARD
END:VTIMEZONE
BEGIN:VEVENT
DTSTART;TZID=UTC:20250820T180000
DTEND;TZID=UTC:20250820T193000
DTSTAMP:20260419T115859
CREATED:20250724T170420Z
LAST-MODIFIED:20250814T132800Z
UID:1730-1755712800-1755718200@northhartfordascend.org
SUMMARY:August Community Conversation (In-Person)
DESCRIPTION:Wednesday\, August 20\n\n\n\nCommunity Conversation – August 2025 (In-Person)\n\n\n\n\n\n\n\n\n\nDate and time\n\n\n\n  \n\nWednesday\, August 20 · 6 – 7:30pm EDT\n\n\n\n\n\n\n\n\n\n\n\n\n\n\n\nLocation\n\n\n  \n\nS.A.N.D. Elementary School \n1750 Main St\, Hartford\, CT 06120 \nGet directions\n\n\n\n\n\n\n\n\n\n\n\n\n\n\nAbout this event\n\n\nEvent lasts 1 hour 30 minutes\n\n\n\n\n\n\nThe North Hartford Ascend Pipeline (Ascend) is a cradle-to-career effort to ensure children living in the North Hartford Promise Zone – which includes the Clay Arsenal\, Northeast\, and Upper Albany neighborhoods – have the support they need to reach their full potential. \nAscend holds monthly Community Conversations to ensure residents and community members are able to provide input about community needs and help shape the direction of this important initiative. \n\nRegister Here:  \nhttps://www.eventbrite.com/e/community-conversation-august-2025-in-person-tickets-1116789360039?aff=odcleoeventsincollection \n 
URL:https://northhartfordascend.org/event/august-community-conversation-in-person/
LOCATION:S.A.N.D Elementary School\, 1750 Main St\, Hartford\, CT\, 06120\, United States
CATEGORIES:Community Conversations
END:VEVENT
BEGIN:VEVENT
DTSTART;TZID=UTC:20250828T093000
DTEND;TZID=UTC:20250828T113000
DTSTAMP:20260419T115859
CREATED:20250724T170953Z
LAST-MODIFIED:20250724T170953Z
UID:1735-1756373400-1756380600@northhartfordascend.org
SUMMARY:Service Provider Monthly Engagement Meeting - August 2025 (In-Person)
DESCRIPTION:Thursday\, August 28\n\n\n\nService Provider Monthly Engagement Meeting – August 2025 (In-Person)\n\n\n\n\n\n\n\nJoin us in-person to foster collaboration and enhance community impact in support of families in the North Hartford Promise Zone! \n\n\n\n\n\n\n\n\n\nBy North Hartford Ascend Pipeline \n\n\n156 followers\n\n\n\nLots of repeat customers 📈\n\n\n\nFollow\n\n\n\n\n\n\n\n\n\n\n\n\nDate and time\n\n\n \n\nThursday\, August 28 · 9:30 – 11:30am EDT\n\n\n\n\n\n\n\n\n\n\n\n\n\n\n\nLocation\n\n \n\nParker Memorial Community Center \n2621 Main Street Hartford\, CT 06120 \nGet directions\n\n\n\n\n\n\n\n\n\n\n\n\n\n\nAbout this event\n\n\n\n\n\n\nThe purpose of these Service Provider Monthly Engagement Meetings are to strengthen connections between organizations offering programs\, services\, and support to residents within the North Hartford Promise Zone and the Ascend and foster collaboration and enhance community impact. \n\nRegister here; \nhttps://www.eventbrite.com/e/service-provider-monthly-engagement-meeting-august-2025-in-person-tickets-1117920854369?aff=odcleoeventsincollection
URL:https://northhartfordascend.org/event/service-provider-monthly-engagement-meeting-august-2025-in-person/
LOCATION:Parker Memorial Community Center\, 2621 Main Street\, Hartford\, CT\, 06120
CATEGORIES:Service Provider Monthly Meetings
END:VEVENT
END:VCALENDAR