BEGIN:VCALENDAR
VERSION:2.0
PRODID:-//North Hartford Ascend - ECPv6.15.20//NONSGML v1.0//EN
CALSCALE:GREGORIAN
METHOD:PUBLISH
X-ORIGINAL-URL:https://northhartfordascend.org
X-WR-CALDESC:Events for North Hartford Ascend
REFRESH-INTERVAL;VALUE=DURATION:PT1H
X-Robots-Tag:noindex
X-PUBLISHED-TTL:PT1H
BEGIN:VTIMEZONE
TZID:UTC
BEGIN:STANDARD
TZOFFSETFROM:+0000
TZOFFSETTO:+0000
TZNAME:UTC
DTSTART:20240101T000000
END:STANDARD
END:VTIMEZONE
BEGIN:VEVENT
DTSTART;TZID=UTC:20250709T180000
DTEND;TZID=UTC:20250709T193000
DTSTAMP:20260419T182400
CREATED:20250702T173432Z
LAST-MODIFIED:20250702T173446Z
UID:1697-1752084000-1752089400@northhartfordascend.org
SUMMARY:Growing Through Summer: Keeping Learning Alive
DESCRIPTION:Date and time\n\n\n\n  \n\nWednesday\, July 9 · 6 – 7:30pm EDT\n\n\n\n\n\n\n\n\n\n\n\n\n\n\n\nLocation\n\n\n  \n\nParker Memorial Community Center \n2621 Main Street Hartford\, CT 06120 \nGet directions\n\n\n\n\n\n\n\n\n\n\n\n\n\n\nAbout this event\n\n\nEvent lasts 1 hour 30 minutes\n\n\n\n\n\n\nDiscover fun and affordable ways to keep your child learning outside the classroom. This workshop will help families build personalized summer plans\, explore learning opportunities in everyday life\, and access free resources to prevent summer learning loss. In this workshop\, participants will: \n\nExplore the impact of summer learning loss and the value of continued learning.\nIdentify learning opportunities embedded in everyday family activities.\nDesign a simple and engaging summer learning plan tailored to each family.\nDiscover free and low-cost resources that support learning during summer break.\n\nThis Ascend Community Workshop is presented by KJR Consulting. KJR Consulting is a trusted partner for companies\, organizations and teams seeking better alignment\, better engagement\, and better results. KJR focuses on organizational health\, helps leaders diagnose specific problems\, and provides the knowledge\, insight\, and tools to achieve success. \nThis event is part of the Ascend Community Workshop series. Seats are limited\, and pre-registration is required. Refreshments will be available. \n\nRegister here:  \nhttps://www.eventbrite.com/e/growing-through-summer-keeping-learning-alive-tickets-1450622694529?aff=odcleoeventsincollection
URL:https://northhartfordascend.org/event/growing-through-summer-keeping-learning-alive/
LOCATION:Parker Memorial Community Center\, 2621 Main Street\, Hartford\, CT\, 06120
CATEGORIES:Community Workshop
END:VEVENT
BEGIN:VEVENT
DTSTART;TZID=UTC:20250719T140000
DTEND;TZID=UTC:20250719T160000
DTSTAMP:20260419T182400
CREATED:20250519T185604Z
LAST-MODIFIED:20250702T172935Z
UID:1619-1752933600-1752940800@northhartfordascend.org
SUMMARY:Community Conversation - July Community Fair 2025 (In-Person)
DESCRIPTION:  \n \nBring your family\, neighbors\, and sense of community to The Artists Collective for a lively afternoon! Meet and greet with Ascend partners\, learn how to get connected to Ascend\, and enjoy free food\, entertainment\, and a variety of fun activities for everyone. \nThe North Hartford Ascend Pipeline (Ascend) is a cradle-to-career effort to ensure children living in the North Hartford Promise Zone – which includes the Clay Arsenal\, Northeast\, and Upper Albany neighborhoods – have the support they need to reach their full potential. \nAscend holds monthly Community Conversations to ensure residents and community members are able to provide input about community needs and help shape the direction of this important initiative. \nRegister here;\nhttps://www.eventbrite.com/e/community-conversation-june-community-fair-2025-in-person-tickets-1116785969899?aff=odcleoeventsincollection
URL:https://northhartfordascend.org/event/community-conversation-june-community-fair-2025-in-person/
LOCATION:Artist Collective\, 1200 Albany Avenue Hartford\, Hartford\, CT\, 06112
CATEGORIES:Community Conversations
END:VEVENT
BEGIN:VEVENT
DTSTART;TZID=UTC:20250730T173000
DTEND;TZID=UTC:20250730T190000
DTSTAMP:20260419T182400
CREATED:20250724T171505Z
LAST-MODIFIED:20250724T171505Z
UID:1737-1753896600-1753902000@northhartfordascend.org
SUMMARY:Young Legends Skill Building Training Workshop
DESCRIPTION:  \n \nJoin The Young Legends at Parker Memorial Community Center at 5:30 PM to 7:00 PM on Wednesday\, July 30th and Thursday\, August 28th for a two-part powerful training focused on key aspects of professional workplace behavior. You can find a short description of both trainings below.  \n“Leading From The Inside Out”: Discover how understanding your core values and building self-awareness can shape your leadership style and workplace presence. \n“Step Up & Lead The Room”: Strengthen your facilitation skills through hands-on practice and proven techniques to confidently lead group discussions. \nLocation: Parker Memorial – 2621 Main Street\, Hartford\, CT 06120\n\nRegister here;\nhttps://docs.google.com/forms/d/e/1FAIpQLSfdFqda-yMYKTalQBBkYPL82NBTowuuBEfuzx6JMc6QY-bgCg/viewform
URL:https://northhartfordascend.org/event/young-legends-skill-building-training-workshop/
LOCATION:Parker Memorial Community Center\, 2621 Main Street\, Hartford\, CT\, 06120
CATEGORIES:Community Workshop
END:VEVENT
BEGIN:VEVENT
DTSTART;TZID=UTC:20250731T180000
DTEND;TZID=UTC:20250731T193000
DTSTAMP:20260419T182400
CREATED:20250702T174823Z
LAST-MODIFIED:20250702T175012Z
UID:1700-1753984800-1753990200@northhartfordascend.org
SUMMARY:Communicating With Your Child
DESCRIPTION:Date and time\n\n\n\n  \n\nThursday\, July 31 · 6 – 7:30pm EDT\n\n\n\n\n\n\n\n\n\n\n\n\n\n\n\nLocation\n\n\n  \n\nParker Memorial Community Center \n2621 Main Street Hartford\, CT 06120 \nGet directions\n\n\n\n\n\n\n\n\n\n\n\n\n\n\nAbout this event\n\n\nEvent lasts 1 hour 30 minutes\n\n\n\n\n\n\nBuild a deeper bond with your child through meaningful conversations. In this interactive session\, participants will learn simple ways to check in weekly\, encourage emotional expression\, and start age appropriate conversations that strengthen trust and connection at home. In this workshop\, participants will: \n\nLearn the importance of consistent parent/caregiver-child communication.\nPractice using a weekly check-in script to foster open dialogue.\nIdentify age-appropriate conversation starters.\nLearn emotional vocabulary tools to help children express feelings.\n\nThis Ascend Community Workshop is presented by KJR Consulting. KJR Consulting is a trusted partner for companies\, organizations and teams seeking better alignment\, better engagement\, and better results. KJR focuses on organizational health\, helps leaders diagnose specific problems\, and provides the knowledge\, insight\, and tools to achieve success. \nThe event is part of the Ascend Community Workshop series. Seats are limited\, and pre-registration is required. Refreshments will be available. \nRegister here: \nhttps://www.eventbrite.com/e/communicating-with-your-child-tickets-1450635492809?aff=odcleoeventsincollection
URL:https://northhartfordascend.org/event/communicating-with-your-child/
LOCATION:Parker Memorial Community Center\, 2621 Main Street\, Hartford\, CT\, 06120
CATEGORIES:Community Workshop
END:VEVENT
END:VCALENDAR