BEGIN:VCALENDAR
VERSION:2.0
PRODID:-//North Hartford Ascend - ECPv6.15.20//NONSGML v1.0//EN
CALSCALE:GREGORIAN
METHOD:PUBLISH
X-WR-CALNAME:North Hartford Ascend
X-ORIGINAL-URL:https://northhartfordascend.org
X-WR-CALDESC:Events for North Hartford Ascend
REFRESH-INTERVAL;VALUE=DURATION:PT1H
X-Robots-Tag:noindex
X-PUBLISHED-TTL:PT1H
BEGIN:VTIMEZONE
TZID:UTC
BEGIN:STANDARD
TZOFFSETFROM:+0000
TZOFFSETTO:+0000
TZNAME:UTC
DTSTART:20240101T000000
END:STANDARD
END:VTIMEZONE
BEGIN:VEVENT
DTSTART;TZID=UTC:20250219T180000
DTEND;TZID=UTC:20250219T193000
DTSTAMP:20260420T064203
CREATED:20250128T204834Z
LAST-MODIFIED:20250128T204925Z
UID:1462-1739988000-1739993400@northhartfordascend.org
SUMMARY:Community Conversation - February 19\, 2025 (Virtual)
DESCRIPTION:The North Hartford Ascend Pipeline (Ascend) is a cradle-to-career effort to ensure children living in the North Hartford Promise Zone – which includes the Clay Arsenal\, Northeast\, and Upper Albany neighborhoods – have the support they need to reach their full potential. \nAscend holds monthly Community Conversations to ensure residents and community members are able to provide input about community needs and help shape the direction of this important initiative. \n  \nRegister Here; \nhttps://www.eventbrite.com/e/community-conversation-february-2025-virtual-tickets-1116761576939?aff=oddtdtcreator \n 
URL:https://northhartfordascend.org/event/community-conversation-february-2025-virtual/
LOCATION:Virtual via Zoom
CATEGORIES:Community Conversations
END:VEVENT
BEGIN:VEVENT
DTSTART;TZID=UTC:20250227T093000
DTEND;TZID=UTC:20250227T233000
DTSTAMP:20260420T064203
CREATED:20250130T151846Z
LAST-MODIFIED:20250130T152534Z
UID:1467-1740648600-1740699000@northhartfordascend.org
SUMMARY:Service Provider Monthly Engagement Meeting - February 2025 (In-Person)
DESCRIPTION:  \n \nThe purpose of these Service Provider Monthly Engagement Meetings are to strengthen connections between organizations offering programs\, services\, and support to residents within the North Hartford Promise Zone and the Ascend and foster collaboration and enhance community impact. \n  \nRegister here; \nhttps://www.eventbrite.com/e/service-provider-monthly-engagement-meeting-february-2025-in-person-tickets-1117916551499?aff=odcleoeventsincollection \n 
URL:https://northhartfordascend.org/event/service-provider-monthly-engagement-meeting-february-2025-in-person/
LOCATION:CT
CATEGORIES:Service Provider Monthly Meetings
END:VEVENT
END:VCALENDAR