BEGIN:VCALENDAR
VERSION:2.0
PRODID:-//North Hartford Ascend - ECPv6.15.20//NONSGML v1.0//EN
CALSCALE:GREGORIAN
METHOD:PUBLISH
X-ORIGINAL-URL:https://northhartfordascend.org
X-WR-CALDESC:Events for North Hartford Ascend
REFRESH-INTERVAL;VALUE=DURATION:PT1H
X-Robots-Tag:noindex
X-PUBLISHED-TTL:PT1H
BEGIN:VTIMEZONE
TZID:UTC
BEGIN:STANDARD
TZOFFSETFROM:+0000
TZOFFSETTO:+0000
TZNAME:UTC
DTSTART:20240101T000000
END:STANDARD
END:VTIMEZONE
BEGIN:VEVENT
DTSTART;VALUE=DATE:20250110
DTEND;VALUE=DATE:20250111
DTSTAMP:20260420T092849
CREATED:20241229T180159Z
LAST-MODIFIED:20241229T180428Z
UID:1402-1736467200-1736553599@northhartfordascend.org
SUMMARY:Hartford Data Youth Fellowship
DESCRIPTION:Calling Hartford Youth! Ready to dive into the world of data?\n\n\nApplications are now open for the Hartford Youth Data Fellowship! Gain skills\, build your resume\, and make an impact in your community.\n\n\nDeadline: January 10th. Learn more and apply today!\n\n\nRegister Here; \n\nhttps://docs.google.com/forms/d/e/1FAIpQLScQgUyFKVdWHIX1tfAd-qu2ce3qapEuA_anuAEoH9A3AH6IcA/viewform?fbclid=IwY2xjawHebNlleHRuA2FlbQIxMAABHcI9IsCpkGebTYLB86wkWqz233ulhu_T5WO4MPlav6c1YATV1MQ_vDC73w_aem_-zDhsF7PGAmdLeRvyQqvUw
URL:https://northhartfordascend.org/event/hartford-data-youth-fellowship/
LOCATION:CT
END:VEVENT
BEGIN:VEVENT
DTSTART;TZID=UTC:20250115T180000
DTEND;TZID=UTC:20250115T193000
DTSTAMP:20260420T092849
CREATED:20241211T170951Z
LAST-MODIFIED:20250108T211156Z
UID:1353-1736964000-1736969400@northhartfordascend.org
SUMMARY:January Community Conversation
DESCRIPTION:🎉 You’re Invited to a Special Community Conversation! 🎉\n\n\n\n\n\n\n\n\n\n\nNext Wednesday\, January 15th\, from 6:00 PM to 7:30 PM\, we’re coming together at the Parker Memorial Community Center to celebrate Ascend’s 4th Birthday with YOU! \n✨ What to Expect:\n🍽️ Dinner & Dessert (because no celebration is complete without treats!)\n🌟 Highlights of Ascend’s achievements over the past 4 years\n📋 Planning our bright future—together as a community\n🎈 Fun activities for kids—bring the whole family! \nLet’s make this milestone unforgettable! Join us as we reflect\, connect\, and continue to build a stronger North Hartford together. \n📍 Location: Parker Memorial Community Center\n📅 Date: Wednesday\, January 15th\n⏰ Time: 6:00 PM – 7:30 PM \nWe can’t wait to celebrate with you! \nRegister Here: \nhttps://www.eventbrite.com/e/community-conversation-january-2025-in-person-tickets-1116750343339?aff=oddtdtcreator \n\n  \n\n  \n\n\n\n\n\n\n\n\n\n 
URL:https://northhartfordascend.org/event/january-community-conversation/
LOCATION:Parker Memorial Community Center\, 2621 Main Street\, Hartford\, CT\, 06120
CATEGORIES:Community Conversations
END:VEVENT
BEGIN:VEVENT
DTSTART;TZID=UTC:20250123T093000
DTEND;TZID=UTC:20250123T113000
DTSTAMP:20260420T092849
CREATED:20241227T183600Z
LAST-MODIFIED:20241227T183600Z
UID:1397-1737624600-1737631800@northhartfordascend.org
SUMMARY:January In-person Service Provider Engagement Meeting
DESCRIPTION:The purpose of these Service Provider Monthly Engagement Meetings are to strengthen connections between organizations offering programs\, services\, and support to residents within the North Hartford Promise Zone and the Ascend and foster collaboration and enhance community impact. \n  \nRegister Here;\nhttps://www.eventbrite.com/e/service-provider-monthly-engagement-meeting-january-2025-in-person-tickets-1117907945759?aff=ebdsoporgprofile \n 
URL:https://northhartfordascend.org/event/january-in-person-service-provider-engagement-meeting/
LOCATION:Parker Memorial Community Center\, 2621 Main Street\, Hartford\, CT\, 06120
END:VEVENT
END:VCALENDAR