BEGIN:VCALENDAR
VERSION:2.0
PRODID:-//North Hartford Ascend - ECPv6.15.20//NONSGML v1.0//EN
CALSCALE:GREGORIAN
METHOD:PUBLISH
X-ORIGINAL-URL:https://northhartfordascend.org
X-WR-CALDESC:Events for North Hartford Ascend
REFRESH-INTERVAL;VALUE=DURATION:PT1H
X-Robots-Tag:noindex
X-PUBLISHED-TTL:PT1H
BEGIN:VTIMEZONE
TZID:UTC
BEGIN:STANDARD
TZOFFSETFROM:+0000
TZOFFSETTO:+0000
TZNAME:UTC
DTSTART:20230101T000000
END:STANDARD
END:VTIMEZONE
BEGIN:VEVENT
DTSTART;TZID=UTC:20241105T173000
DTEND;TZID=UTC:20241105T190000
DTSTAMP:20260420T144814
CREATED:20241028T171118Z
LAST-MODIFIED:20241028T171118Z
UID:1241-1730827800-1730833200@northhartfordascend.org
SUMMARY:Thriving Together: Coping with Criticism & Family Dynamics
DESCRIPTION:
URL:https://northhartfordascend.org/event/thriving-together-coping-with-criticism-family-dynamics/
LOCATION:United Way of Central and Northeastern Connecticut\, 30 Laurel Street\, Hartford\, CT\, 06106
CATEGORIES:Community Workshop
ATTACH;FMTTYPE=image/jpeg:https://northhartfordascend.org/wp-content/uploads/2024/10/https___cdn.evbuc_.com_images_880807133_514417931259_1_original.jpeg
END:VEVENT
BEGIN:VEVENT
DTSTART;TZID=UTC:20241107T170000
DTEND;TZID=UTC:20241107T193000
DTSTAMP:20260420T144814
CREATED:20241028T171227Z
LAST-MODIFIED:20241028T171227Z
UID:1244-1730998800-1731007800@northhartfordascend.org
SUMMARY:Thriving Together: Coping with Criticism & Family Dynamics
DESCRIPTION:
URL:https://northhartfordascend.org/event/thriving-together-coping-with-criticism-family-dynamics-2/
LOCATION:United Way of Central and Northeastern Connecticut\, 30 Laurel Street\, Hartford\, CT\, 06106
CATEGORIES:Community Workshop
ATTACH;FMTTYPE=image/jpeg:https://northhartfordascend.org/wp-content/uploads/2024/10/https___cdn.evbuc_.com_images_880807133_514417931259_1_original.jpeg
END:VEVENT
END:VCALENDAR