BEGIN:VCALENDAR
VERSION:2.0
PRODID:-//North Hartford Ascend - ECPv6.15.20//NONSGML v1.0//EN
CALSCALE:GREGORIAN
METHOD:PUBLISH
X-ORIGINAL-URL:https://northhartfordascend.org
X-WR-CALDESC:Events for North Hartford Ascend
REFRESH-INTERVAL;VALUE=DURATION:PT1H
X-Robots-Tag:noindex
X-PUBLISHED-TTL:PT1H
BEGIN:VTIMEZONE
TZID:UTC
BEGIN:STANDARD
TZOFFSETFROM:+0000
TZOFFSETTO:+0000
TZNAME:UTC
DTSTART:20240101T000000
END:STANDARD
END:VTIMEZONE
BEGIN:VEVENT
DTSTART;TZID=UTC:20251016T180000
DTEND;TZID=UTC:20251016T193000
DTSTAMP:20260419T120049
CREATED:20251001T183943Z
LAST-MODIFIED:20251001T184846Z
UID:2223-1760637600-1760643000@northhartfordascend.org
SUMMARY:Your Business Brand\, Your Success Story  - Community Workshop (In-person)
DESCRIPTION:Thursday\, October 16\n\n\n\nYour Business Brand\, Your Success Story\n\n\n\n\n\n\nBy North Hartford Ascend Pipeline\n\n\n\n\n\n\n\n\n\nLearn how to structure your business brand identity and storyline to stand out from the competition and build a solid marketing strategy. \n\n\n\n\n\n\n\n\n\nDate and time\n\n\n\n  \n\nThursday\, October 16 · 6 – 7:30pm EDT\n\n\n\n\n\n\n\n\n\n\n\n\n\n\n\nLocation\n\n\n  \n\nBENNETT BUILDING \n1229 Albany Avenue Hartford\, CT 06112 \n\n\n\n\n\n\n\n\nAbout this event\n\nBusiness • Sales & Marketing\n\n\n\n\n\nYour Business Brand\, Your Success Story – Learn how to structure your business brand identity and storyline to stand out from the competition and build a solid marketing strategy and plan. \nAre you looking to start a business and want to learn what it takes? Do you have a business and want to better understand business principles? Then\, you should join us for a four-part Small Business Masterclass Series. You’ll learn how to be more intentional about starting or scaling your business\, and gain expert insight into branding\, marketing\, and financial systems for success. Invest time in yourself and your business by attending these sessions. \nThis Ascend Community Workshop is presented by URISE. Inc. URISE Ventures is a local nonprofit organization that believes the key to closing the wealth gap is by closing the education gap. URISE’s award-winning business and entrepreneurship programs and events provide underserved individuals and families with the knowledge\, guidance and resources they need to make their financial and entrepreneurial dreams a reality. \nThe event is part of the Ascend Community Workshop series. Seats are limited\, and pre-registration is required. Refreshments will be available. \n\nRegister here; https://www.eventbrite.com/e/your-business-brand-your-success-story-tickets-1708696189299?aff=odcleoeventsincollection
URL:https://northhartfordascend.org/event/your-business-brand-your-success-story-community-workshop-in-person/
LOCATION:BENNETT BUILDING  1229 Albany Avenue Hartford\, CT 06112\, Bennett Building\, Hartford\, 06112\, United States
CATEGORIES:Community Workshop
END:VEVENT
END:VCALENDAR