BEGIN:VCALENDAR
VERSION:2.0
PRODID:-//North Hartford Ascend - ECPv6.15.20//NONSGML v1.0//EN
CALSCALE:GREGORIAN
METHOD:PUBLISH
X-WR-CALNAME:North Hartford Ascend
X-ORIGINAL-URL:https://northhartfordascend.org
X-WR-CALDESC:Events for North Hartford Ascend
REFRESH-INTERVAL;VALUE=DURATION:PT1H
X-Robots-Tag:noindex
X-PUBLISHED-TTL:PT1H
BEGIN:VTIMEZONE
TZID:UTC
BEGIN:STANDARD
TZOFFSETFROM:+0000
TZOFFSETTO:+0000
TZNAME:UTC
DTSTART:20240101T000000
END:STANDARD
END:VTIMEZONE
BEGIN:VEVENT
DTSTART;TZID=UTC:20250925T180000
DTEND;TZID=UTC:20250925T193000
DTSTAMP:20260419T222440
CREATED:20250905T185359Z
LAST-MODIFIED:20250905T185359Z
UID:2141-1758823200-1758828600@northhartfordascend.org
SUMMARY:Becoming the Grown-up They Need – Growing as a Caregiver
DESCRIPTION:Thursday\, September 25\n\n\n\nBecoming the Grown-up They Need – Growing as a Caregiver\n\n\n\n\n\n\nBy North Hartford Ascend Pipeline\n\n\n\n\n\n\n\n\n\nExplore how your personal growth influences your child’s development\, and walk away with a simple plan to grow with intention. \n\n\n\n\n\n\n\n\n\nDate and time\n\n\n \n\nThursday\, September 25 · 6 – 7:30pm EDT\n\n\n\n\n\n\n\n\n\n\n\n\n\n\n\nLocation\n\n \n\nParker Memorial Community Center \n2621 Main Street Hartford\, CT 06120 \nGet directions
URL:https://northhartfordascend.org/event/becoming-the-grown-up-they-need-growing-as-a-caregiver/
LOCATION:Parker Memorial Community Center\, 2621 Main Street\, Hartford\, CT\, 06120
CATEGORIES:Community Workshop
END:VEVENT
END:VCALENDAR