BEGIN:VCALENDAR
VERSION:2.0
PRODID:-//North Hartford Ascend - ECPv6.15.20//NONSGML v1.0//EN
CALSCALE:GREGORIAN
METHOD:PUBLISH
X-ORIGINAL-URL:https://northhartfordascend.org
X-WR-CALDESC:Events for North Hartford Ascend
REFRESH-INTERVAL;VALUE=DURATION:PT1H
X-Robots-Tag:noindex
X-PUBLISHED-TTL:PT1H
BEGIN:VTIMEZONE
TZID:UTC
BEGIN:STANDARD
TZOFFSETFROM:+0000
TZOFFSETTO:+0000
TZNAME:UTC
DTSTART:20240101T000000
END:STANDARD
END:VTIMEZONE
BEGIN:VEVENT
DTSTART;TZID=UTC:20250917T180000
DTEND;TZID=UTC:20250917T193000
DTSTAMP:20260419T234250
CREATED:20250826T200831Z
LAST-MODIFIED:20250826T200831Z
UID:2063-1758132000-1758137400@northhartfordascend.org
SUMMARY:Community Conversation - September 2025 (In-Person)
DESCRIPTION:
URL:https://northhartfordascend.org/event/community-conversation-september-2025-in-person/
LOCATION:Parker Memorial Community Center\, 2621 Main Street\, Hartford\, CT\, 06120
CATEGORIES:Community Conversations
ATTACH;FMTTYPE=image/avif:https://northhartfordascend.org/wp-content/uploads/2025/03/in-person-community-conversation.avif
END:VEVENT
BEGIN:VEVENT
DTSTART;TZID=UTC:20250917T180000
DTEND;TZID=UTC:20250917T193000
DTSTAMP:20260419T234250
CREATED:20250905T190055Z
LAST-MODIFIED:20250905T190055Z
UID:2143-1758132000-1758137400@northhartfordascend.org
SUMMARY:Community Conversation - September 2025 (In-Person)
DESCRIPTION:Join us at this Community Conversation to share your insights and perspectives! \n\n\n\n\n\n\n\n\n\nDate and time\n\n\n \n\nWednesday\, September 17 · 6 – 7:30pm EDT\n\n\n\n\n\n\n\n\n\n\n\n\n\n\n\nLocation\n\n\n\nMilner Middle School \n150 Tower Avenue Hartford\, CT 06120
URL:https://northhartfordascend.org/event/community-conversation-september-2025-in-person-2/
LOCATION:Milner Middle School\, 150 Tower Ave\, Hartford\, CT\, United States
CATEGORIES:Community Conversations
END:VEVENT
END:VCALENDAR