BEGIN:VCALENDAR
VERSION:2.0
PRODID:-//North Hartford Ascend - ECPv6.15.20//NONSGML v1.0//EN
CALSCALE:GREGORIAN
METHOD:PUBLISH
X-ORIGINAL-URL:https://northhartfordascend.org
X-WR-CALDESC:Events for North Hartford Ascend
REFRESH-INTERVAL;VALUE=DURATION:PT1H
X-Robots-Tag:noindex
X-PUBLISHED-TTL:PT1H
BEGIN:VTIMEZONE
TZID:UTC
BEGIN:STANDARD
TZOFFSETFROM:+0000
TZOFFSETTO:+0000
TZNAME:UTC
DTSTART:20240101T000000
END:STANDARD
END:VTIMEZONE
BEGIN:VEVENT
DTSTART;TZID=UTC:20250521T180000
DTEND;TZID=UTC:20250521T193000
DTSTAMP:20260420T064407
CREATED:20250325T192628Z
LAST-MODIFIED:20250325T192628Z
UID:1546-1747850400-1747855800@northhartfordascend.org
SUMMARY:May Community Conversation Virtual
DESCRIPTION:Join us at this Community Conversation to share your insights and perspectives! \nThe North Hartford Ascend Pipeline (Ascend) is a cradle-to-career effort to ensure children living in the North Hartford Promise Zone – which includes the Clay Arsenal\, Northeast\, and Upper Albany neighborhoods – have the support they need to reach their full potential. \nAscend holds monthly Community Conversations to ensure residents and community members are able to provide input about community needs and help shape the direction of this important initiative. \nRegistration opens April 21 \nhttps://www.eventbrite.com/e/community-conversation-may-2025-virtual-tickets-1116774816539?aff=odcleoeventsincollection \n 
URL:https://northhartfordascend.org/event/may-community-conversation-virtual/
LOCATION:Virtual via Zoom
CATEGORIES:Community Conversations
END:VEVENT
END:VCALENDAR