BEGIN:VCALENDAR
VERSION:2.0
PRODID:-//North Hartford Ascend - ECPv6.15.20//NONSGML v1.0//EN
CALSCALE:GREGORIAN
METHOD:PUBLISH
X-WR-CALNAME:North Hartford Ascend
X-ORIGINAL-URL:https://northhartfordascend.org
X-WR-CALDESC:Events for North Hartford Ascend
REFRESH-INTERVAL;VALUE=DURATION:PT1H
X-Robots-Tag:noindex
X-PUBLISHED-TTL:PT1H
BEGIN:VTIMEZONE
TZID:UTC
BEGIN:STANDARD
TZOFFSETFROM:+0000
TZOFFSETTO:+0000
TZNAME:UTC
DTSTART:20240101T000000
END:STANDARD
END:VTIMEZONE
BEGIN:VEVENT
DTSTART;TZID=UTC:20250517T090000
DTEND;TZID=UTC:20250517T120000
DTSTAMP:20260420T064103
CREATED:20250505T150618Z
LAST-MODIFIED:20250505T150719Z
UID:1604-1747472400-1747483200@northhartfordascend.org
SUMMARY:Community Workshop (In person)
DESCRIPTION:Saturday\, May 17\n\n\n\nPublic Speaking Skills for Community Leaders\n\n\n\n\nEnhance your public speaking abilities and take a significant step towards personal and professional growth. \n\n\n\n\n\n\n\n\n\nDate and time\n\n\n\n\nSaturday\, May 17 · 9am – 12pm EDT\n\n\n\n\n\n\n\n\n\n\n\n\n\n\n\nLocation\nParker Memorial Community Center\n\n\n\n2621 Main Street Hartford\, CT 06120 \n\n\n\n\n\n\n\n\n\n\n\nAbout this event\n\n\nEvent lasts 3 hours\n\n\n\n\n\n\nDid you know that\, according to a 1973 survey by the Sunday Times of London\, 41% of people list public speaking as their biggest fear? For many\, standing up in front of a crowd is more terrifying than small spaces\, darkness\, or spiders. We invite you to join our Public Speaking Skills Workshop\, where you’ll learn to become more confident and relaxed in front of an audience. This transformation will help you deliver successful and impactful speaking events. \nConquering the fear of public speaking can significantly boost your self-esteem and provide a substantial advantage in your career. Our workshop will equip you with essential public speaking skills\, including how to develop an engaging program and deliver your presentation with power and confidence. Don’t miss this opportunity to enhance your public speaking abilities and take a significant step towards personal and professional growth. \nThis Ascend Community Workshop is presented by KJR Consulting. KJR Consulting is a trusted partner for companies\, organizations and teams seeking better alignment\, better engagement\, and better results. KJR focuses on organizational health\, helps leaders diagnose specific problems\, and provides the knowledge\, insight\, and tools to achieve success. \n\nRegister here;\nhttps://www.eventbrite.com/e/public-speaking-skills-for-community-leaders-tickets-1342920233569?aff=odcleoeventsincollection
URL:https://northhartfordascend.org/event/community-workshop-in-person-3/
LOCATION:Parker Memorial Community Center\, 2621 Main Street\, Hartford\, CT\, 06120
CATEGORIES:Community Workshop
END:VEVENT
END:VCALENDAR