BEGIN:VCALENDAR
VERSION:2.0
PRODID:-//North Hartford Ascend - ECPv6.15.20//NONSGML v1.0//EN
CALSCALE:GREGORIAN
METHOD:PUBLISH
X-ORIGINAL-URL:https://northhartfordascend.org
X-WR-CALDESC:Events for North Hartford Ascend
REFRESH-INTERVAL;VALUE=DURATION:PT1H
X-Robots-Tag:noindex
X-PUBLISHED-TTL:PT1H
BEGIN:VTIMEZONE
TZID:UTC
BEGIN:STANDARD
TZOFFSETFROM:+0000
TZOFFSETTO:+0000
TZNAME:UTC
DTSTART:20240101T000000
END:STANDARD
END:VTIMEZONE
BEGIN:VEVENT
DTSTART;TZID=UTC:20250319T180000
DTEND;TZID=UTC:20250319T193000
DTSTAMP:20260420T064333
CREATED:20250221T193303Z
LAST-MODIFIED:20250221T193303Z
UID:1473-1742407200-1742412600@northhartfordascend.org
SUMMARY:March Community Conversation (Virtual)
DESCRIPTION:The North Hartford Ascend Pipeline (Ascend) is a cradle-to-career effort to ensure children living in the North Hartford Promise Zone – which includes the Clay Arsenal\, Northeast\, and Upper Albany neighborhoods – have the support they need to reach their full potential. \nAscend holds monthly Community Conversations to ensure residents and community members are able to provide input about community needs and help shape the direction of this important initiative. \n  \nRegister Here;\nhttps://www.eventbrite.com/e/community-conversation-march-2025-virtual-tickets-1116763843719?aff=odcleoeventsincollection\n \n 
URL:https://northhartfordascend.org/event/march-community-conversation-virtual/
LOCATION:CT
CATEGORIES:Community Conversations
END:VEVENT
END:VCALENDAR