BEGIN:VCALENDAR
VERSION:2.0
PRODID:-//North Hartford Ascend - ECPv6.15.20//NONSGML v1.0//EN
CALSCALE:GREGORIAN
METHOD:PUBLISH
X-WR-CALNAME:North Hartford Ascend
X-ORIGINAL-URL:https://northhartfordascend.org
X-WR-CALDESC:Events for North Hartford Ascend
REFRESH-INTERVAL;VALUE=DURATION:PT1H
X-Robots-Tag:noindex
X-PUBLISHED-TTL:PT1H
BEGIN:VTIMEZONE
TZID:UTC
BEGIN:STANDARD
TZOFFSETFROM:+0000
TZOFFSETTO:+0000
TZNAME:UTC
DTSTART:20230101T000000
END:STANDARD
END:VTIMEZONE
BEGIN:VEVENT
DTSTART;TZID=UTC:20241016T180000
DTEND;TZID=UTC:20241016T193000
DTSTAMP:20260420T172006
CREATED:20240910T195307Z
LAST-MODIFIED:20240910T201719Z
UID:717-1729101600-1729107000@northhartfordascend.org
SUMMARY:October Community Conversation (Virtual)
DESCRIPTION:Click Here to Register\nThe North Hartford Ascend Pipeline (Ascend) is a cradle-to-career effort to ensure children living in the North Hartford Promise Zone – which includes the Clay Arsenal\, Northeast\, and Upper Albany neighborhoods – have the support they need to reach their full potential. \nAscend holds monthly Community Conversations to ensure residents and community members are able to provide input about community needs and help shape the direction of this important initiative. \n 
URL:https://northhartfordascend.org/event/community-conversation-october-2024-virtual/
LOCATION:Virtual via Zoom
CATEGORIES:Community Conversations
ATTACH;FMTTYPE=image/jpeg:https://northhartfordascend.org/wp-content/uploads/2024/09/https___cdn.evbuc_.com_images_767495589_508967243673_1_original.jpeg
END:VEVENT
END:VCALENDAR