BEGIN:VCALENDAR
VERSION:2.0
PRODID:-//North Hartford Ascend - ECPv6.15.20//NONSGML v1.0//EN
CALSCALE:GREGORIAN
METHOD:PUBLISH
X-ORIGINAL-URL:https://northhartfordascend.org
X-WR-CALDESC:Events for North Hartford Ascend
REFRESH-INTERVAL;VALUE=DURATION:PT1H
X-Robots-Tag:noindex
X-PUBLISHED-TTL:PT1H
BEGIN:VTIMEZONE
TZID:UTC
BEGIN:STANDARD
TZOFFSETFROM:+0000
TZOFFSETTO:+0000
TZNAME:UTC
DTSTART:20230101T000000
END:STANDARD
END:VTIMEZONE
BEGIN:VEVENT
DTSTART;TZID=UTC:20240926T093000
DTEND;TZID=UTC:20240926T113000
DTSTAMP:20260420T212831
CREATED:20240910T202754Z
LAST-MODIFIED:20240910T202754Z
UID:744-1727343000-1727350200@northhartfordascend.org
SUMMARY:September Service Provider Monthly Engagement Meeting (In-Person)
DESCRIPTION:Click Here to Register\nJoin us in-person to foster collaboration and enhance community impact in support of families in the North Hartford Promise Zone! \nThe purpose of these Service Provider Monthly Engagement Meetings are to strengthen connections between organizations offering programs\, services\, and support to residents within the North Hartford Promise Zone and the Ascend and foster collaboration and enhance community impact.
URL:https://northhartfordascend.org/event/september-service-provider-monthly-engagement-meeting-in-person/
LOCATION:Parker Memorial Community Center\, 2621 Main Street\, Hartford\, CT\, 06120
CATEGORIES:Service Provider Monthly Meetings
ATTACH;FMTTYPE=image/jpeg:https://northhartfordascend.org/wp-content/uploads/2024/09/https___cdn.evbuc_.com_images_795298879_508967243673_1_original.jpeg
END:VEVENT
END:VCALENDAR